BEGIN:VCALENDAR
VERSION:2.0
PRODID:-//Plone.org//NONSGML plone.app.event//EN
X-WR-TIMEZONE:Europe/Vienna
BEGIN:VEVENT
SUMMARY:DANCE THE INFRASTRUCTURE | Architekturtagefest
DTSTART;TZID=Europe/Vienna:20260530T190000
DTEND;TZID=Europe/Vienna:20260531T020000
DTSTAMP:20260420T221524Z
UID:08369dcd3be14ff387af763aead0ee8a@orte-noe.at
CATEGORIES:AT26
CREATED:20260320T143417Z
DESCRIPTION:Zum Abschluss der Architekturtage 2026 wird im HDA gefeiert. U
 nter dem Motto Infrastruktur. Was uns verbindet. gilt: erst denken\, dann 
 tanzen – oder beides gleichzeitig. \nMit Live-Bands\, DJs\, Drinks\, gut
 en Leuten\, lauter Musik und voller Energie – getanzt wird\, bis die Inf
 rastruktur wackelt. Für ein paar Stunden zählt nur der Moment\, alles an
 dere kann warten.\nDas Haus steht allen offen\, der Eintritt ist frei.
GEO:47.0711273;15.4338653
LAST-MODIFIED:20260415T143423Z
LOCATION;ALTREP="https://orte-noe.at/hda/lib/adressbuch/hda-haus-der-archi
 tektur":HDA – Haus der Architektur\, Mariahilferstraße 2\, 8020 Graz\, 
 Austria
URL:https://orte-noe.at/hda/programm/archtekturtage-fest-dance-the-infrast
 ructure
END:VEVENT
BEGIN:VTIMEZONE
TZID:Europe/Vienna
X-LIC-LOCATION:Europe/Vienna
BEGIN:DAYLIGHT
DTSTART:20260329T030000
TZNAME:CEST
TZOFFSETFROM:+0100
TZOFFSETTO:+0200
END:DAYLIGHT
END:VTIMEZONE
END:VCALENDAR
