BEGIN:VCALENDAR
VERSION:2.0
PRODID:-//Plone.org//NONSGML plone.app.event//EN
X-WR-TIMEZONE:Europe/Vienna
BEGIN:VEVENT
SUMMARY:BUSTOUR: Weinbauregion Südoststeiermark – Alltag und Vielfalt i
 m ländlichen Raum
DTSTART;VALUE=DATE:20260528
DTEND;VALUE=DATE:20260529
DTSTAMP:20260420T161158Z
UID:66bf8355d3d748a4bc808b3d5f7844f7@orte-noe.at
CATEGORIES:AT26
CREATED:20260316T125401Z
DESCRIPTION:Die Exkursion führt zu Gebäuden\, die historische Bausubstan
 z bewahren und gleichzeitig durch zeitgemäße architektonische Eingriffe 
 neu interpretiert wurden. Dadurch entsteht eine spannende Reise durch vers
 chiedene Epochen der Baukultur der Region.\nDie Teilnehmer:innen erhalten 
 Einblicke in unterschiedliche architektonische Konzepte – von der sensib
 len Sanierung traditioneller Kellerstöckl über moderne Weinarchitektur b
 is hin zu neu gedachten Veranstaltungsorten.
GEO:47.0711273;15.4338653
LAST-MODIFIED:20260415T132907Z
LOCATION;ALTREP="https://orte-noe.at/hda/lib/adressbuch/hda-haus-der-archi
 tektur":HDA – Haus der Architektur\, Mariahilferstraße 2\, 8020 Graz\, 
 Austria
URL:https://orte-noe.at/hda/programm/bustour-weinbauregion-suedoststeierma
 rk-alltag-und-vielfalt-im-laendlichen-raum
END:VEVENT
END:VCALENDAR
