BEGIN:VCALENDAR
VERSION:2.0
PRODID:-//Plone.org//NONSGML plone.app.event//EN
X-WR-TIMEZONE:Europe/Vienna
BEGIN:VEVENT
SUMMARY:Moderne Architektur in Salzburg
DTSTART;TZID=Europe/Vienna:20260429T183000
DTSTAMP:20260419T193100Z
UID:383666b2a955480f92cd17be124f96fa@orte-noe.at
CATEGORIES:Buchpräsentation
CREATED:20260407T141912Z
DESCRIPTION:Dieser von Matthias Weiß herausgegebene Architekturführer l
 ädt dazu ein\, Salzburg neu zu entdecken.
GEO:47.79496602651422;13.030600547790527
LAST-MODIFIED:20260409T110742Z
LOCATION;ALTREP="https://orte-noe.at/ia/lib/adressbuch/architekturhaus-sal
 zburg":Architekturhaus Salzburg\, Sinnhubstraße 3\, 5020 Salzburg\, Austr
 ia
URL:https://orte-noe.at/ia/kalender/moderne-architektur-in-salzburg-6
END:VEVENT
BEGIN:VTIMEZONE
TZID:Europe/Vienna
X-LIC-LOCATION:Europe/Vienna
BEGIN:DAYLIGHT
DTSTART:20260329T030000
TZNAME:CEST
TZOFFSETFROM:+0100
TZOFFSETTO:+0200
END:DAYLIGHT
END:VTIMEZONE
END:VCALENDAR
