BEGIN:VCALENDAR
VERSION:2.0
PRODID:-//Plone.org//NONSGML plone.app.event//EN
X-WR-TIMEZONE:Europe/Vienna
BEGIN:VEVENT
SUMMARY:WOODEN STRUCTURES
DTSTART;VALUE=DATE:20260417
DTEND;VALUE=DATE:20260801
DTSTAMP:20260419T151911Z
UID:6fecb38041cc456a80b0edb677555a89@orte-noe.at
CATEGORIES:AT26,Ausstellung
CREATED:20260313T150825Z
DESCRIPTION:Eine Ausstellung\, die das Zusammenspiel innovativer Holzwerks
 toffe\, neuer Konstruktionsmethoden und handwerklicher Präzision in beein
 druckenden baulichen Strukturen zeigt.
GEO:47.79496602651422;13.030600547790527
LAST-MODIFIED:20260417T113116Z
LOCATION;ALTREP="https://orte-noe.at/ia/lib/adressbuch/architekturhaus-sal
 zburg":Architekturhaus Salzburg\, Sinnhubstraße 3\, 5020 Salzburg\, Austr
 ia
URL:https://orte-noe.at/ia/kalender/wooden-structures
END:VEVENT
END:VCALENDAR
